BEGIN:VCALENDAR
VERSION:2.0
PRODID:-//Weinbotschafterin Zellertal - ECPv6.3.7//NONSGML v1.0//EN
CALSCALE:GREGORIAN
METHOD:PUBLISH
X-ORIGINAL-URL:https://weinbotschafterin-zellertal.de
X-WR-CALDESC:Veranstaltungen für Weinbotschafterin Zellertal
REFRESH-INTERVAL;VALUE=DURATION:PT1H
X-Robots-Tag:noindex
X-PUBLISHED-TTL:PT1H
BEGIN:VTIMEZONE
TZID:Europe/Berlin
BEGIN:DAYLIGHT
TZOFFSETFROM:+0100
TZOFFSETTO:+0200
TZNAME:CEST
DTSTART:20260329T010000
END:DAYLIGHT
BEGIN:STANDARD
TZOFFSETFROM:+0200
TZOFFSETTO:+0100
TZNAME:CET
DTSTART:20261025T010000
END:STANDARD
END:VTIMEZONE
BEGIN:VEVENT
DTSTART;TZID=Europe/Berlin:20261121T120000
DTEND;TZID=Europe/Berlin:20261121T150000
DTSTAMP:20260425T043932
CREATED:20230217T160951Z
LAST-MODIFIED:20260123T162856Z
UID:452-1795262400-1795273200@weinbotschafterin-zellertal.de
SUMMARY:Glühweintreff in Einselthum
DESCRIPTION:Dampfnudeln und Glühwein für einen guten Zweck
URL:https://weinbotschafterin-zellertal.de/event/grillplatz-einselthum/
END:VEVENT
BEGIN:VEVENT
DTSTART;TZID=Europe/Berlin:20261127T170000
DTEND;TZID=Europe/Berlin:20261127T220000
DTSTAMP:20260425T043932
CREATED:20230217T162023Z
LAST-MODIFIED:20260114T210820Z
UID:458-1795798800-1795816800@weinbotschafterin-zellertal.de
SUMMARY:Eisenberger Weihnachtsmarkt im beleuchteten Park
DESCRIPTION:Weihnachtlicher  Budenzauber geselliges Beisammen sein bei Feuerzangenboule\, Weinachtsgebäck und Dampfnudeln mit Wein – oder Vanillesoße.
URL:https://weinbotschafterin-zellertal.de/event/eisenberger-weihnachtsmarkt-im-beleuchteten-park-2/
END:VEVENT
BEGIN:VEVENT
DTSTART;TZID=Europe/Berlin:20261128T150000
DTEND;TZID=Europe/Berlin:20261128T220000
DTSTAMP:20260425T043932
CREATED:20230217T161859Z
LAST-MODIFIED:20260114T210802Z
UID:456-1795878000-1795903200@weinbotschafterin-zellertal.de
SUMMARY:Eisenberger Weihnachtsmarkt im beleuchteten Park
DESCRIPTION:Weihnachtlicher  Budenzauber geselliges Beisammen sein bei Feuerzangenboule\, Weinachtsgebäck und Dampfnudeln mit Wein – oder Vanillesoße.
URL:https://weinbotschafterin-zellertal.de/event/eisenberger-weihnachtsmarkt-im-beleuchteten-park/
END:VEVENT
BEGIN:VEVENT
DTSTART;TZID=Europe/Berlin:20261129T140000
DTEND;TZID=Europe/Berlin:20261129T190000
DTSTAMP:20260425T043932
CREATED:20230217T161637Z
LAST-MODIFIED:20260114T210744Z
UID:454-1795960800-1795978800@weinbotschafterin-zellertal.de
SUMMARY:Eisenberger Weihnachtsmarkt im Park
DESCRIPTION:Weihnachtlicher  Budenzauber geselliges Beisammen sein bei Feuerzangenboule\, Weinachtsgebäck und Dampfnudeln mit Wein – oder Vanillesoße.
URL:https://weinbotschafterin-zellertal.de/event/eisenberger-weihnachtsmarkt-im-park/
END:VEVENT
END:VCALENDAR