BEGIN:VCALENDAR
VERSION:2.0
PRODID:-//Weinbotschafterin Zellertal - ECPv6.3.7//NONSGML v1.0//EN
CALSCALE:GREGORIAN
METHOD:PUBLISH
X-ORIGINAL-URL:https://weinbotschafterin-zellertal.de
X-WR-CALDESC:Veranstaltungen für Weinbotschafterin Zellertal
REFRESH-INTERVAL;VALUE=DURATION:PT1H
X-Robots-Tag:noindex
X-PUBLISHED-TTL:PT1H
BEGIN:VTIMEZONE
TZID:Europe/Berlin
BEGIN:DAYLIGHT
TZOFFSETFROM:+0100
TZOFFSETTO:+0200
TZNAME:CEST
DTSTART:20260329T010000
END:DAYLIGHT
BEGIN:STANDARD
TZOFFSETFROM:+0200
TZOFFSETTO:+0100
TZNAME:CET
DTSTART:20261025T010000
END:STANDARD
END:VTIMEZONE
BEGIN:VEVENT
DTSTART;TZID=Europe/Berlin:20260905T150000
DTEND;TZID=Europe/Berlin:20260905T190000
DTSTAMP:20260425T015347
CREATED:20260208T201042Z
LAST-MODIFIED:20260208T201042Z
UID:608-1788620400-1788634800@weinbotschafterin-zellertal.de
SUMMARY:NEU Samstag vor der Weinrast
DESCRIPTION:Gemütliches beisammen sein bei Zellertaler Wein und Snacks
URL:https://weinbotschafterin-zellertal.de/event/neu-samstag-vor-der-weinrast-2/
END:VEVENT
BEGIN:VEVENT
DTSTART;TZID=Europe/Berlin:20260906T110000
DTEND;TZID=Europe/Berlin:20260906T190000
DTSTAMP:20260425T015347
CREATED:20230217T160102Z
LAST-MODIFIED:20260114T211601Z
UID:446-1788692400-1788721200@weinbotschafterin-zellertal.de
SUMMARY:Weinrast mit Weitblick Mölsheim
DESCRIPTION:Geselliges Beisammen sein bei Wein und Snacks
URL:https://weinbotschafterin-zellertal.de/event/weinrast-mit-weitblick-moelsheim/
END:VEVENT
BEGIN:VEVENT
DTSTART;TZID=Europe/Berlin:20260912T120000
DTEND;TZID=Europe/Berlin:20260912T140000
DTSTAMP:20260425T015347
CREATED:20250203T170525Z
LAST-MODIFIED:20260313T145530Z
UID:541-1789214400-1789221600@weinbotschafterin-zellertal.de
SUMMARY:Wanderung im September
DESCRIPTION:Rundgang ab Weinrast Mölsheim. Begrüßung mit Zellertal Secco und Brezel. Geschichte über das Tal\, die Menschen und den Weinbau. Ursprung der Kleinlage Schwarzer Herrgott. Festes Schuhwerk erforderlich (unbefestigte Wege). Anmeldung erforderlich unter 0176/17210483 oder c.storck@t-online.de \nTreffpunkt: Parkplatz Weinrast Mölsheim \nKosten: 10\,00 € \nTermine: Samstags  17.10.2026\, jeweils 15:00 – 17:00 Uhr
URL:https://weinbotschafterin-zellertal.de/event/541/
END:VEVENT
BEGIN:VEVENT
DTSTART;TZID=Europe/Berlin:20260912T150000
DTEND;TZID=Europe/Berlin:20260912T190000
DTSTAMP:20260425T015347
CREATED:20260208T200838Z
LAST-MODIFIED:20260208T200838Z
UID:606-1789225200-1789239600@weinbotschafterin-zellertal.de
SUMMARY:NEU  Samstag vor der Weinrast
DESCRIPTION:Gemütliches beisammen sein bei Zellertaler Wein und Snacks
URL:https://weinbotschafterin-zellertal.de/event/neu-samstag-vor-der-weinrast/
END:VEVENT
BEGIN:VEVENT
DTSTART;TZID=Europe/Berlin:20260913T110000
DTEND;TZID=Europe/Berlin:20260913T190000
DTSTAMP:20260425T015347
CREATED:20260208T202125Z
LAST-MODIFIED:20260208T202125Z
UID:611-1789297200-1789326000@weinbotschafterin-zellertal.de
SUMMARY:Weinrast in Mölsheim
DESCRIPTION:Geselliges  beisammen sein  bei Zellertaler Wein und Snacks
URL:https://weinbotschafterin-zellertal.de/event/weinrast-in-moelsheim/
END:VEVENT
END:VCALENDAR