BEGIN:VCALENDAR
VERSION:2.0
PRODID:-//Weinbotschafterin Zellertal - ECPv6.3.7//NONSGML v1.0//EN
CALSCALE:GREGORIAN
METHOD:PUBLISH
X-WR-CALNAME:Weinbotschafterin Zellertal
X-ORIGINAL-URL:https://weinbotschafterin-zellertal.de
X-WR-CALDESC:Veranstaltungen für Weinbotschafterin Zellertal
REFRESH-INTERVAL;VALUE=DURATION:PT1H
X-Robots-Tag:noindex
X-PUBLISHED-TTL:PT1H
BEGIN:VTIMEZONE
TZID:Europe/Berlin
BEGIN:DAYLIGHT
TZOFFSETFROM:+0100
TZOFFSETTO:+0200
TZNAME:CEST
DTSTART:20260329T010000
END:DAYLIGHT
BEGIN:STANDARD
TZOFFSETFROM:+0200
TZOFFSETTO:+0100
TZNAME:CET
DTSTART:20261025T010000
END:STANDARD
END:VTIMEZONE
BEGIN:VEVENT
DTSTART;TZID=Europe/Berlin:20260425T150000
DTEND;TZID=Europe/Berlin:20260425T180000
DTSTAMP:20260424T134500
CREATED:20260119T230000Z
LAST-MODIFIED:20260123T154140Z
UID:290-1777129200-1777140000@weinbotschafterin-zellertal.de
SUMMARY:DIE VERGESSNE STAATSGRENZE – Teil 1 (Einselthum zum Schwarzen Herrgott)
DESCRIPTION:Geführte Wanderung vorbei am ältesten Haus der Pfalz und dem Wodanfels nach Zell mit seinem historischen Ortskern\, weiter zum Zellertaler Ehrenmal und zum Ursprung der Kleinanlage Schwarzer Herrgott über die „vergessene Staatsgrenze“ zurück zum Augangspunkt. Unterwegs 5 Weinproben und eine kleine Vesper. Anmeldung erforderlich unter 0176/17210483 oder c.storck@t-online.de \nTreffpunkt: Gasthaus Wellers Weinhäusel in Einselthum (Hauptstr. 2) \nKosten: 25\,00 € \nTermine: Samstag 25.04.2026 \, 15:00 Uhr  I
URL:https://weinbotschafterin-zellertal.de/event/die-vergessne-staatsgrenze-teil-1-einselthum-zum-schwarzen-herrgott/
LOCATION:Wellers Weinhäusel\, Hauptstr. 2\, Einselthum\, 67308\, Deutschland
END:VEVENT
BEGIN:VEVENT
DTSTART;TZID=Europe/Berlin:20260426T110000
DTEND;TZID=Europe/Berlin:20260426T140000
DTSTAMP:20260424T134500
CREATED:20200121T162816Z
LAST-MODIFIED:20260114T214013Z
UID:292-1777201200-1777212000@weinbotschafterin-zellertal.de
SUMMARY:DIE VERGESSNE STAATSGRENZE – Teil 2 (Weinrast zum Schwarzen Herrgott)
DESCRIPTION:Nach einem kurzen Streifzug durch die Mölsheimer Geschichte Aufbruch zu einer geführten Wanderung zum Zellertaler Ehrenmal\, zum Ursprung der Kleinanlage Schwarzer Herrgott vorbei an Weinbergshäuschen und dem „Schneckenwingert“ über die „vergessene Staatsgrenze“ zurück nach Mölsheim. Unterwegs 5 Weinproben und eine kleine Vesper. Anmeldung erforderlich unter 0176/17210483 oder c.storck@t-online.de \nTreffpunkt: An der Weinrast mit Weitblick in Mölsheim (Hauptstr. 52) \nKosten: 25\,00 € \nTermin: Sonntag 26.04.2026 \, 11:00 Uhr
URL:https://weinbotschafterin-zellertal.de/event/die-vergessne-staatsgrenze-teil-2-weinrast-zum-schwarzen-herrgott/
LOCATION:Weinrast\, Hauptstr. 52\, Mölsheim\, 67591\, Deutschland
END:VEVENT
BEGIN:VEVENT
DTSTART;TZID=Europe/Berlin:20260502T150000
DTEND;TZID=Europe/Berlin:20260502T170000
DTSTAMP:20260424T134500
CREATED:20200121T162918Z
LAST-MODIFIED:20260123T161122Z
UID:294-1777734000-1777741200@weinbotschafterin-zellertal.de
SUMMARY:WANDERUNG MAI
DESCRIPTION:Rundgang ab Denkmal. Begrüßung mit Zellertal Secco und Brezel. Geschichte über das Tal\, die Menschen und den Weinbau. Ursprung der Kleinlage Schwarzer Herrgott. Festes Schuhwerk erforderlich (unbefestigte Wege). Anmeldung erforderlich unter 0176/17210483 oder c.storck@t-online.de \nTreffpunkt: Parkplatz am Zellertaler Ehrenmal an der Panormastraße (K64) zwischen Zell und Mölsheim \nKosten: 10\,00 € \nTermine: Samstags 02.05. | 13.06. I 11.07. | 08.08. | 12.09. | 17.10.2026\, jeweils 15:00 – 17:00
URL:https://weinbotschafterin-zellertal.de/event/wandern-wo-der-herrgott-zuhause-ist-2/
LOCATION:Denkmal\, K 64\, Zellertal\, 67308\, Deutschland
END:VEVENT
BEGIN:VEVENT
DTSTART;TZID=Europe/Berlin:20260509T150000
DTEND;TZID=Europe/Berlin:20260509T220000
DTSTAMP:20260424T134500
CREATED:20230217T153433Z
LAST-MODIFIED:20260114T213453Z
UID:433-1778338800-1778364000@weinbotschafterin-zellertal.de
SUMMARY:Street - Food - Event Eisenberg
DESCRIPTION:Infomationsstand  zum Kultur und Weinbotscher im Zellertal / Pfalz \nWeine aus dem Zellertal\, Dampfnudeln mit Wein – und Vanillesoße
URL:https://weinbotschafterin-zellertal.de/event/street-food-event-eisenberg/
END:VEVENT
BEGIN:VEVENT
DTSTART;TZID=Europe/Berlin:20260510T120000
DTEND;TZID=Europe/Berlin:20260510T170000
DTSTAMP:20260424T134500
CREATED:20230217T154306Z
LAST-MODIFIED:20260114T213319Z
UID:435-1778414400-1778432400@weinbotschafterin-zellertal.de
SUMMARY:Street  - Food - Event Eisenberg
DESCRIPTION:Informationsstand der Kultur und Weinbotschafter über das Zellertal / Pfalz. \nWeine aus dem Zellertal\, Dampfnudeln mit Wein – und Vanillesoße
URL:https://weinbotschafterin-zellertal.de/event/street-food-event-eisenberg-2/
END:VEVENT
BEGIN:VEVENT
DTSTART;TZID=Europe/Berlin:20260613T150000
DTEND;TZID=Europe/Berlin:20260613T170000
DTSTAMP:20260424T134500
CREATED:20200121T163012Z
LAST-MODIFIED:20260114T212901Z
UID:296-1781362800-1781370000@weinbotschafterin-zellertal.de
SUMMARY:WANDERUNG JUNI
DESCRIPTION:Rundgang ab Denkmal. Begrüßung mit Zellertal Secco und Brezel. Geschichte über das Tal\, die Menschen und den Weinbau. Ursprung der Kleinlage Schwarzer Herrgott. Festes Schuhwerk erforderlich (unbefestigte Wege). Anmeldung erforderlich unter 0176/17210483 oder c.storck@t-online.de \nTreffpunkt: Parkplatz am Zellertaler Ehrenmal an der Panormastraße (K64) zwischen Zell und Mölsheim \nKosten: 10\,00 € \nTermine:  Samstags 13.06. I 11.07. | 08.08. | 12.09. | 17.102026\, jeweils 15:00 – 17:00 Uhr |
URL:https://weinbotschafterin-zellertal.de/event/wanderung-juni/
LOCATION:Denkmal\, K 64\, Zellertal\, 67308\, Deutschland
END:VEVENT
BEGIN:VEVENT
DTSTART;TZID=Europe/Berlin:20260709T150000
DTEND;TZID=Europe/Berlin:20260709T170000
DTSTAMP:20260424T134500
CREATED:20260123T163337Z
LAST-MODIFIED:20260123T163927Z
UID:592-1783609200-1783616400@weinbotschafterin-zellertal.de
SUMMARY:KINDERWANDERUNG – Entdecken\, Staunen & Mitmachen
DESCRIPTION:Wie kommt eigentlich der Traubensaft ins Glas? Und warum wachsen im Zellertal so viele Reben? Bei der Kinderwanderung im Zellertal gehen kleine Entdecker diesen Fragen auf spielerische und kindgerechte Weise nach. \nGemeinsam erkunden wir das Zellertal\, beobachten die Reben\, lernen die Natur kennen und entdecken\, was das Tal so besonders macht. Mit spannenden Erklärungen\, kleinen Mitmachmomenten und viel Raum zum Staunen erfahren die Kinder\, wie aus Trauben Saft entsteht und welche Rolle der Weinbau im Zellertal spielt – ganz ohne komplizierte Fachbegriffe\, dafür mit viel Spaß. \nNatürlich kommt auch der Genuss nicht zu kurz: Jedes Kind erhält Traubensaft\, Wasser und eine Brezel\, damit neue Energie für die Entdeckungsreise vorhanden ist. Die Wanderung ist bewusst locker gestaltet\, sodass Bewegung\, Lernen und gemeinsames Erleben im Vordergrund stehen. \nDie Kinderwanderung richtet sich an Familien mit neugierigen Kindern\, die Natur und regionale Besonderheiten gemeinsam erleben möchten. Kinder unter 6 Jahren können nur in Begleitung eines Erwachsenen teilnehmen. Bitte denken Sie an wettergerechte Kleidung und festes Schuhwerk. \nEin Erlebnis\, das Wissen vermittelt\, Freude macht und das Zellertal aus Kinderaugen zeigt – lebendig\, spannend und voller kleiner Wunder. \nTreffpunkt:  – im Juli Parkplatz des Friedhof Einselthum\n– im August am Parkplatz des Zeller Golsenpark\nKosten: 10\,00€ p.P.\nTermine: donnerstags 09.07. / 06.08.2026\, jeweils 15:00 – 17:00 Uhr
URL:https://weinbotschafterin-zellertal.de/event/kinderwanderung-im-zellertal-entdecken-staunen-mitmachen/
LOCATION:Parkplazu am Einselthumer Friedhof\, Hauptstraße\, Einselthum\, Rheinland-Pfalz\, 67308\, Deutschland
END:VEVENT
BEGIN:VEVENT
DTSTART;TZID=Europe/Berlin:20260711T150000
DTEND;TZID=Europe/Berlin:20260711T170000
DTSTAMP:20260424T134500
CREATED:20200121T163123Z
LAST-MODIFIED:20260114T212240Z
UID:299-1783782000-1783789200@weinbotschafterin-zellertal.de
SUMMARY:WANDERUNG JULI
DESCRIPTION:Rundgang ab Denkmal. Begrüßung mit Zellertal Secco und Brezel. Geschichte über das Tal\, die Menschen und den Weinbau. Ursprung der Kleinlage Schwarzer Herrgott. Festes Schuhwerk erforderlich (unbefestigte Wege). Anmeldung erforderlich unter 0176/17210483 oder c.storck@t-online.de \nTreffpunkt: Parkplatz am Zellertaler Ehrenmal an der Panormastraße (K64) zwischen Zell und Mölsheim \nKosten: 10\,00 € \nTermine: Samstags I 13.07. | 09.08. | 13.09. | 17.10.2026\, jeweils 15:00 – 17:00 Uhr |
URL:https://weinbotschafterin-zellertal.de/event/wanderung-juli-2/
LOCATION:Denkmal\, K 64\, Zellertal\, 67308\, Deutschland
END:VEVENT
BEGIN:VEVENT
DTSTART;TZID=Europe/Berlin:20260806T150000
DTEND;TZID=Europe/Berlin:20260806T170000
DTSTAMP:20260424T134500
CREATED:20260123T163737Z
LAST-MODIFIED:20260123T163906Z
UID:595-1786028400-1786035600@weinbotschafterin-zellertal.de
SUMMARY:KINDERWANDERUNG – Entdecken\, Staunen & Mitmachen
DESCRIPTION:Wie kommt eigentlich der Traubensaft ins Glas? Und warum wachsen im Zellertal so viele Reben? Bei der Kinderwanderung im Zellertal gehen kleine Entdecker diesen Fragen auf spielerische und kindgerechte Weise nach. \nGemeinsam erkunden wir das Zellertal\, beobachten die Reben\, lernen die Natur kennen und entdecken\, was das Tal so besonders macht. Mit spannenden Erklärungen\, kleinen Mitmachmomenten und viel Raum zum Staunen erfahren die Kinder\, wie aus Trauben Saft entsteht und welche Rolle der Weinbau im Zellertal spielt – ganz ohne komplizierte Fachbegriffe\, dafür mit viel Spaß. \nNatürlich kommt auch der Genuss nicht zu kurz: Jedes Kind erhält Traubensaft\, Wasser und eine Brezel\, damit neue Energie für die Entdeckungsreise vorhanden ist. Die Wanderung ist bewusst locker gestaltet\, sodass Bewegung\, Lernen und gemeinsames Erleben im Vordergrund stehen. \nDie Kinderwanderung richtet sich an Familien mit neugierigen Kindern\, die Natur und regionale Besonderheiten gemeinsam erleben möchten. Kinder unter 6 Jahren können nur in Begleitung eines Erwachsenen teilnehmen. Bitte denken Sie an wettergerechte Kleidung und festes Schuhwerk. \nEin Erlebnis\, das Wissen vermittelt\, Freude macht und das Zellertal aus Kinderaugen zeigt – lebendig\, spannend und voller kleiner Wunder. \nTreffpunkt:  im August am Parkplatz des Zeller Golsenpark\nKosten: 10\,00€ p.P.\nTermine: Donnerstag 06.08.2026\, 15:00 – 17:00 Uhr
URL:https://weinbotschafterin-zellertal.de/event/kinderwanderung-entdecken-staunen-mitmachen/
LOCATION:Parkplatz al Zeller Golsenpark\, Zeller Hauptstraße\, Zellertal-Zell\, Rheinland-Pfalz\, 67308\, Deutschland
END:VEVENT
BEGIN:VEVENT
DTSTART;TZID=Europe/Berlin:20260808T150000
DTEND;TZID=Europe/Berlin:20260808T170000
DTSTAMP:20260424T134500
CREATED:20200121T163225Z
LAST-MODIFIED:20260114T212633Z
UID:301-1786201200-1786208400@weinbotschafterin-zellertal.de
SUMMARY:WANDERUNG AUGUST
DESCRIPTION:Rundgang ab Denkmal. Begrüßung mit Zellertal Secco und Brezel. Geschichte über das Tal\, die Menschen und den Weinbau. Ursprung der Kleinlage Schwarzer Herrgott. Festes Schuhwerk erforderlich (unbefestigte Wege). Anmeldung erforderlich unter 0176/17210483 oder c.storck@t-online.de \nTreffpunkt: Parkplatz am Zellertaler Ehrenmal an der Panormastraße (K64) zwischen Zell und Mölsheim \nKosten: 10\,00 € \nTermine: Samstags | 08.08. |12.09. | 17.10.2026\, jeweils 15:00 – 17:00 Uhr |
URL:https://weinbotschafterin-zellertal.de/event/wanderung-august-2/
LOCATION:Denkmal\, K 64\, Zellertal\, 67308\, Deutschland
END:VEVENT
BEGIN:VEVENT
DTSTART;TZID=Europe/Berlin:20260905T150000
DTEND;TZID=Europe/Berlin:20260905T190000
DTSTAMP:20260424T134500
CREATED:20260208T201042Z
LAST-MODIFIED:20260208T201042Z
UID:608-1788620400-1788634800@weinbotschafterin-zellertal.de
SUMMARY:NEU Samstag vor der Weinrast
DESCRIPTION:Gemütliches beisammen sein bei Zellertaler Wein und Snacks
URL:https://weinbotschafterin-zellertal.de/event/neu-samstag-vor-der-weinrast-2/
END:VEVENT
BEGIN:VEVENT
DTSTART;TZID=Europe/Berlin:20260906T110000
DTEND;TZID=Europe/Berlin:20260906T190000
DTSTAMP:20260424T134500
CREATED:20230217T160102Z
LAST-MODIFIED:20260114T211601Z
UID:446-1788692400-1788721200@weinbotschafterin-zellertal.de
SUMMARY:Weinrast mit Weitblick Mölsheim
DESCRIPTION:Geselliges Beisammen sein bei Wein und Snacks
URL:https://weinbotschafterin-zellertal.de/event/weinrast-mit-weitblick-moelsheim/
END:VEVENT
BEGIN:VEVENT
DTSTART;TZID=Europe/Berlin:20260912T120000
DTEND;TZID=Europe/Berlin:20260912T140000
DTSTAMP:20260424T134500
CREATED:20250203T170525Z
LAST-MODIFIED:20260313T145530Z
UID:541-1789214400-1789221600@weinbotschafterin-zellertal.de
SUMMARY:Wanderung im September
DESCRIPTION:Rundgang ab Weinrast Mölsheim. Begrüßung mit Zellertal Secco und Brezel. Geschichte über das Tal\, die Menschen und den Weinbau. Ursprung der Kleinlage Schwarzer Herrgott. Festes Schuhwerk erforderlich (unbefestigte Wege). Anmeldung erforderlich unter 0176/17210483 oder c.storck@t-online.de \nTreffpunkt: Parkplatz Weinrast Mölsheim \nKosten: 10\,00 € \nTermine: Samstags  17.10.2026\, jeweils 15:00 – 17:00 Uhr
URL:https://weinbotschafterin-zellertal.de/event/541/
END:VEVENT
BEGIN:VEVENT
DTSTART;TZID=Europe/Berlin:20260912T150000
DTEND;TZID=Europe/Berlin:20260912T190000
DTSTAMP:20260424T134500
CREATED:20260208T200838Z
LAST-MODIFIED:20260208T200838Z
UID:606-1789225200-1789239600@weinbotschafterin-zellertal.de
SUMMARY:NEU  Samstag vor der Weinrast
DESCRIPTION:Gemütliches beisammen sein bei Zellertaler Wein und Snacks
URL:https://weinbotschafterin-zellertal.de/event/neu-samstag-vor-der-weinrast/
END:VEVENT
BEGIN:VEVENT
DTSTART;TZID=Europe/Berlin:20260913T110000
DTEND;TZID=Europe/Berlin:20260913T190000
DTSTAMP:20260424T134500
CREATED:20260208T202125Z
LAST-MODIFIED:20260208T202125Z
UID:611-1789297200-1789326000@weinbotschafterin-zellertal.de
SUMMARY:Weinrast in Mölsheim
DESCRIPTION:Geselliges  beisammen sein  bei Zellertaler Wein und Snacks
URL:https://weinbotschafterin-zellertal.de/event/weinrast-in-moelsheim/
END:VEVENT
BEGIN:VEVENT
DTSTART;TZID=Europe/Berlin:20261017T150000
DTEND;TZID=Europe/Berlin:20261017T170000
DTSTAMP:20260424T134500
CREATED:20200121T163410Z
LAST-MODIFIED:20260114T211210Z
UID:305-1792249200-1792256400@weinbotschafterin-zellertal.de
SUMMARY:WANDERUNG OKTOBER
DESCRIPTION:Rundgang ab Denkmal. Begrüßung mit Zellertal Secco und Brezel. Geschichte über das Tal\, die Menschen und den Weinbau. Ursprung der Kleinlage Schwarzer Herrgott. Festes Schuhwerk erforderlich (unbefestigte Wege). Anmeldung erforderlich unter 0176/17210483 oder c.storck@t-online.de \nTreffpunkt: Parkplatz am Zellertaler Ehrenmal an der Panormastraße (K64) zwischen Zell und Mölsheim \nKosten: 10\,00 € \nTermine: Samstags  17.10.2026\, 15:00 – 17:00 Uhr
URL:https://weinbotschafterin-zellertal.de/event/wanderung-oktober-2/
LOCATION:Denkmal\, K 64\, Zellertal\, 67308\, Deutschland
END:VEVENT
BEGIN:VEVENT
DTSTART;TZID=Europe/Berlin:20261024T150000
DTEND;TZID=Europe/Berlin:20261024T190000
DTSTAMP:20260424T134500
CREATED:20260208T200641Z
LAST-MODIFIED:20260208T200641Z
UID:604-1792854000-1792868400@weinbotschafterin-zellertal.de
SUMMARY:NEU   Samstag vor der letzten Weinrast
DESCRIPTION:Geselliges beisammen sein bei Zellertaler Wein  und Snacks \n 
URL:https://weinbotschafterin-zellertal.de/event/neu-samstag-vor-der-letzten-weinrast/
END:VEVENT
BEGIN:VEVENT
DTSTART;TZID=Europe/Berlin:20261025T110000
DTEND;TZID=Europe/Berlin:20261025T170000
DTSTAMP:20260424T134500
CREATED:20230217T160604Z
LAST-MODIFIED:20260208T195616Z
UID:450-1792926000-1792947600@weinbotschafterin-zellertal.de
SUMMARY:Letzte Weinrast mit Weitblick Mölsheim
DESCRIPTION:Geselliges Beisammen sein bei Wein und Snacks. \nDiese letzte Weinrast wird immer für einen  Guten Zweck veranstalltet.
URL:https://weinbotschafterin-zellertal.de/event/letzte-weinrast-mit-weitblick-moelsheim/
END:VEVENT
BEGIN:VEVENT
DTSTART;TZID=Europe/Berlin:20261121T120000
DTEND;TZID=Europe/Berlin:20261121T150000
DTSTAMP:20260424T134500
CREATED:20230217T160951Z
LAST-MODIFIED:20260123T162856Z
UID:452-1795262400-1795273200@weinbotschafterin-zellertal.de
SUMMARY:Glühweintreff in Einselthum
DESCRIPTION:Dampfnudeln und Glühwein für einen guten Zweck
URL:https://weinbotschafterin-zellertal.de/event/grillplatz-einselthum/
END:VEVENT
BEGIN:VEVENT
DTSTART;TZID=Europe/Berlin:20261127T170000
DTEND;TZID=Europe/Berlin:20261127T220000
DTSTAMP:20260424T134500
CREATED:20230217T162023Z
LAST-MODIFIED:20260114T210820Z
UID:458-1795798800-1795816800@weinbotschafterin-zellertal.de
SUMMARY:Eisenberger Weihnachtsmarkt im beleuchteten Park
DESCRIPTION:Weihnachtlicher  Budenzauber geselliges Beisammen sein bei Feuerzangenboule\, Weinachtsgebäck und Dampfnudeln mit Wein – oder Vanillesoße.
URL:https://weinbotschafterin-zellertal.de/event/eisenberger-weihnachtsmarkt-im-beleuchteten-park-2/
END:VEVENT
BEGIN:VEVENT
DTSTART;TZID=Europe/Berlin:20261128T150000
DTEND;TZID=Europe/Berlin:20261128T220000
DTSTAMP:20260424T134500
CREATED:20230217T161859Z
LAST-MODIFIED:20260114T210802Z
UID:456-1795878000-1795903200@weinbotschafterin-zellertal.de
SUMMARY:Eisenberger Weihnachtsmarkt im beleuchteten Park
DESCRIPTION:Weihnachtlicher  Budenzauber geselliges Beisammen sein bei Feuerzangenboule\, Weinachtsgebäck und Dampfnudeln mit Wein – oder Vanillesoße.
URL:https://weinbotschafterin-zellertal.de/event/eisenberger-weihnachtsmarkt-im-beleuchteten-park/
END:VEVENT
BEGIN:VEVENT
DTSTART;TZID=Europe/Berlin:20261129T140000
DTEND;TZID=Europe/Berlin:20261129T190000
DTSTAMP:20260424T134500
CREATED:20230217T161637Z
LAST-MODIFIED:20260114T210744Z
UID:454-1795960800-1795978800@weinbotschafterin-zellertal.de
SUMMARY:Eisenberger Weihnachtsmarkt im Park
DESCRIPTION:Weihnachtlicher  Budenzauber geselliges Beisammen sein bei Feuerzangenboule\, Weinachtsgebäck und Dampfnudeln mit Wein – oder Vanillesoße.
URL:https://weinbotschafterin-zellertal.de/event/eisenberger-weihnachtsmarkt-im-park/
END:VEVENT
BEGIN:VEVENT
DTSTART;TZID=Europe/Berlin:20261212T170000
DTEND;TZID=Europe/Berlin:20261212T220000
DTSTAMP:20260424T134500
CREATED:20260113T150051Z
LAST-MODIFIED:20260114T210725Z
UID:460-1797094800-1797112800@weinbotschafterin-zellertal.de
SUMMARY:Einselthumer Weihnachtsmarkt auf dem Dorfplatz
DESCRIPTION:Weihnachtlicher  Budenzauber geselliges Beisammen sein bei Glühwein\, Feuerzangenboule\, leckere Köstlichkeiten\, Weihnachtliche Geschenke.
URL:https://weinbotschafterin-zellertal.de/event/einselthumer-weihnachtsmarkt-auf-dem-dorfplatz/
END:VEVENT
BEGIN:VEVENT
DTSTART;TZID=Europe/Berlin:20261213T160000
DTEND;TZID=Europe/Berlin:20261213T200000
DTSTAMP:20260424T134500
CREATED:20260112T160037Z
LAST-MODIFIED:20260114T210717Z
UID:462-1797177600-1797192000@weinbotschafterin-zellertal.de
SUMMARY:Einselthumer Weihnachtsmarkt auf dem Dorfplatz
DESCRIPTION:Weihnachtlicher  Budenzauber\, geselliges Beisammensein bei Glühwein\, Feuerzangenboule\, leckeren Köstlichkeiten\, weihnachtliche Geschenke. \nAb 18 Uhr Ankunft vom Friedenslicht aus Bethlehem \nWer sich das Licht mitnehmen möchte BITTE eine Laterne mit Kerze mitbringen
URL:https://weinbotschafterin-zellertal.de/event/einselthumer-weihnachtsmarkt-auf-dem-dorfplatz-2/
END:VEVENT
BEGIN:VEVENT
DTSTART;TZID=Europe/Berlin:20261227T130000
DTEND;TZID=Europe/Berlin:20261227T153000
DTSTAMP:20260424T134500
CREATED:20250203T172415Z
LAST-MODIFIED:20260114T210421Z
UID:546-1798376400-1798385400@weinbotschafterin-zellertal.de
SUMMARY:Glühweinwanderung durch die Wingert ums Denkmal
DESCRIPTION:Mit dem Glühwein in der Hand  wandern wir  vom Denkmal durch die Weinberge.
URL:https://weinbotschafterin-zellertal.de/event/gluehweinwanderung-durch-die-wingert-ums-denkmal/
END:VEVENT
END:VCALENDAR