BEGIN:VCALENDAR
VERSION:2.0
PRODID:-//Weinbotschafterin Zellertal - ECPv6.3.7//NONSGML v1.0//EN
CALSCALE:GREGORIAN
METHOD:PUBLISH
X-WR-CALNAME:Weinbotschafterin Zellertal
X-ORIGINAL-URL:https://weinbotschafterin-zellertal.de
X-WR-CALDESC:Veranstaltungen für Weinbotschafterin Zellertal
REFRESH-INTERVAL;VALUE=DURATION:PT1H
X-Robots-Tag:noindex
X-PUBLISHED-TTL:PT1H
BEGIN:VTIMEZONE
TZID:Europe/Berlin
BEGIN:DAYLIGHT
TZOFFSETFROM:+0100
TZOFFSETTO:+0200
TZNAME:CEST
DTSTART:20260329T010000
END:DAYLIGHT
BEGIN:STANDARD
TZOFFSETFROM:+0200
TZOFFSETTO:+0100
TZNAME:CET
DTSTART:20261025T010000
END:STANDARD
END:VTIMEZONE
BEGIN:VEVENT
DTSTART;TZID=Europe/Berlin:20260913T110000
DTEND;TZID=Europe/Berlin:20260913T190000
DTSTAMP:20260425T031444
CREATED:20260208T202125Z
LAST-MODIFIED:20260208T202125Z
UID:611-1789297200-1789326000@weinbotschafterin-zellertal.de
SUMMARY:Weinrast in Mölsheim
DESCRIPTION:Geselliges  beisammen sein  bei Zellertaler Wein und Snacks
URL:https://weinbotschafterin-zellertal.de/event/weinrast-in-moelsheim/
END:VEVENT
END:VCALENDAR