BEGIN:VCALENDAR
VERSION:2.0
PRODID:-//Weinbotschafterin Zellertal - ECPv6.3.7//NONSGML v1.0//EN
CALSCALE:GREGORIAN
METHOD:PUBLISH
X-ORIGINAL-URL:https://weinbotschafterin-zellertal.de
X-WR-CALDESC:Veranstaltungen für Weinbotschafterin Zellertal
REFRESH-INTERVAL;VALUE=DURATION:PT1H
X-Robots-Tag:noindex
X-PUBLISHED-TTL:PT1H
BEGIN:VTIMEZONE
TZID:Europe/Berlin
BEGIN:DAYLIGHT
TZOFFSETFROM:+0100
TZOFFSETTO:+0200
TZNAME:CEST
DTSTART:20260329T010000
END:DAYLIGHT
BEGIN:STANDARD
TZOFFSETFROM:+0200
TZOFFSETTO:+0100
TZNAME:CET
DTSTART:20261025T010000
END:STANDARD
END:VTIMEZONE
BEGIN:VEVENT
DTSTART;TZID=Europe/Berlin:20260426T110000
DTEND;TZID=Europe/Berlin:20260426T140000
DTSTAMP:20260424T182648
CREATED:20200121T162816Z
LAST-MODIFIED:20260114T214013Z
UID:292-1777201200-1777212000@weinbotschafterin-zellertal.de
SUMMARY:DIE VERGESSNE STAATSGRENZE – Teil 2 (Weinrast zum Schwarzen Herrgott)
DESCRIPTION:Nach einem kurzen Streifzug durch die Mölsheimer Geschichte Aufbruch zu einer geführten Wanderung zum Zellertaler Ehrenmal\, zum Ursprung der Kleinanlage Schwarzer Herrgott vorbei an Weinbergshäuschen und dem „Schneckenwingert“ über die „vergessene Staatsgrenze“ zurück nach Mölsheim. Unterwegs 5 Weinproben und eine kleine Vesper. Anmeldung erforderlich unter 0176/17210483 oder c.storck@t-online.de \nTreffpunkt: An der Weinrast mit Weitblick in Mölsheim (Hauptstr. 52) \nKosten: 25\,00 € \nTermin: Sonntag 26.04.2026 \, 11:00 Uhr
URL:https://weinbotschafterin-zellertal.de/event/die-vergessne-staatsgrenze-teil-2-weinrast-zum-schwarzen-herrgott/
LOCATION:Weinrast\, Hauptstr. 52\, Mölsheim\, 67591\, Deutschland
END:VEVENT
END:VCALENDAR